BEGIN:VCALENDAR
VERSION:2.0
PRODID:-//ChurchDev//Events//EN
CALSCALE:GREGORIAN
METHOD:PUBLISH
BEGIN:VEVENT
UID:4732-20260405@www.jesusourjubileechurch.com
SUMMARY:Resurrection Sunday Message &#038\; Children Presentation
DTSTART:20260405T173000Z
DTEND:20260405T190000Z
DESCRIPTION:https://www.jesusourjubileechurch.com/events/resurrection-sunday/
LOCATION:4660 Portland Rd NE\, Salem\, OR 97303
URL:https://www.jesusourjubileechurch.com/events/resurrection-sunday/
DTSTAMP:20260420T033858Z
END:VEVENT
END:VCALENDAR
