BEGIN:VCALENDAR
VERSION:2.0
PRODID:-//ChurchDev//Events//EN
CALSCALE:GREGORIAN
METHOD:PUBLISH
BEGIN:VEVENT
UID:4733-20260403@www.jesusourjubileechurch.com
SUMMARY:Good Friday Service
DTSTART:20260404T010000Z
DTEND:20260404T030000Z
DESCRIPTION:https://www.jesusourjubileechurch.com/events/good-friday-service/
LOCATION:4660 Portland Rd NE\, Salem\, OR 97303
URL:https://www.jesusourjubileechurch.com/events/good-friday-service/
DTSTAMP:20260420T033857Z
END:VEVENT
END:VCALENDAR
