BEGIN:VCALENDAR
VERSION:2.0
PRODID:-//ChurchDev//Events//EN
CALSCALE:GREGORIAN
METHOD:PUBLISH
BEGIN:VEVENT
UID:4803-20260422@www.jesusourjubileechurch.com
SUMMARY:Prophet/Psalmist Glen Richards
DTSTART:20260423T020000Z
DTEND:20260423T040000Z
DESCRIPTION:https://www.jesusourjubileechurch.com/events/prophet-psalmist-glen-richards/
LOCATION:4660 Portland Rd NE\, Salem\, OR 97303
URL:https://www.jesusourjubileechurch.com/events/prophet-psalmist-glen-richards/
DTSTAMP:20260420T033739Z
END:VEVENT
END:VCALENDAR
